BEGIN:VCALENDAR
VERSION:2.0
PRODID:-//Squarespace Inc/Squarespace 6//v6//EN
BEGIN:VEVENT
UID:5bd6e47c419202dce27776ac@squarespace.com
DTSTAMP:20181030T152458Z
DTSTART:20181208T150000Z
DTEND:20181209T170000Z
SUMMARY:Noël au moulin
GEO:49.726963;5.895568
LOCATION:D'Millen
END:VEVENT
END:VCALENDAR
