BEGIN:VCALENDAR
VERSION:2.0
PRODID:-//Squarespace Inc/Squarespace 6//v6//EN
BEGIN:VEVENT
UID:5b718cbb575d1febd1076e20@squarespace.com
DTSTAMP:20180911T100232Z
DTSTART:20181007T130000Z
DTEND:20181007T140000Z
SUMMARY:Au fil du son 
GEO:40.720756;-74.000761
LOCATION:D'Millen
END:VEVENT
END:VCALENDAR
