BEGIN:VCALENDAR
VERSION:2.0
PRODID:-//Squarespace Inc/Squarespace 6//v6//EN
BEGIN:VEVENT
UID:5bd6de74652dea6b530b8a09@squarespace.com
DTSTAMP:20181029T102518Z
DTSTART:20181125T083000Z
DTEND:20181125T153000Z
SUMMARY:Be Mindful - Journée de pratique 
GEO:49.726878;5.895523
LOCATION:d'Millen
END:VEVENT
END:VCALENDAR
