BEGIN:VCALENDAR
VERSION:2.0
PRODID:-//Squarespace Inc/Squarespace 6//v6//EN
BEGIN:VEVENT
UID:5bc0a23eeef1a1349e1512be@squarespace.com
DTSTAMP:20181012T133703Z
DTSTART:20181123T190000Z
DTEND:20181123T210000Z
SUMMARY:L'histoire de la radio
GEO:40.720756;-74.000761
LOCATION:D'Millen
END:VEVENT
END:VCALENDAR
