BEGIN:VCALENDAR
VERSION:2.0
PRODID:-//Squarespace Inc/Squarespace 6//v6//EN
BEGIN:VEVENT
UID:5bc097e6eef1a1349e14a993@squarespace.com
DTSTAMP:20181012T132143Z
DTSTART:20181122T170000Z
DTEND:20181123T153000Z
SUMMARY:Patrimoine et logement - une (ré)affectation utile ? 
GEO:49.726878;5.895523
LOCATION:D'Millen
END:VEVENT
END:VCALENDAR
