BEGIN:VCALENDAR
VERSION:2.0
PRODID:-//Squarespace Inc/Squarespace 6//v6//EN
BEGIN:VEVENT
UID:5bc8599f71c10bcd6b4651ee@squarespace.com
DTSTAMP:20181022T082457Z
DTSTART:20181117T130000Z
DTEND:20181209T170000Z
SUMMARY:D'une vie à l'autre\, une exposition de Nadine Sizaire et de Philip
 pe Malaise
GEO:49.726963;5.895568
LOCATION:D'Millen
END:VEVENT
END:VCALENDAR
