BEGIN:VCALENDAR
VERSION:2.0
PRODID:-//Squarespace Inc/Squarespace 6//v6//EN
BEGIN:VEVENT
UID:5bb4ce700852290ffa4f6d81@squarespace.com
DTSTAMP:20181003T143544Z
DTSTART:20181115T190000Z
DTEND:20181115T200000Z
SUMMARY:Ticos Tranquilo am Panama\, Pura Vida am Costa Rica
GEO:49.726878;5.895523
LOCATION:D'Millen
END:VEVENT
END:VCALENDAR
