BEGIN:VCALENDAR
VERSION:2.0
PRODID:-//Squarespace Inc/Squarespace 6//v6//EN
BEGIN:VEVENT
UID:5b48c59d03ce6469a93085b4@squarespace.com
DTSTAMP:20180831T105953Z
DTSTART:20181006T120000Z
DTEND:20181006T150000Z
SUMMARY:Visite guidée de la station de pompage\, des captages de sources de 
 Koerich et des réservoirs Rebierg à Hivange
GEO:49.680297;5.9446
LOCATION:Fockemillen\, Fockemillen\, Koerich
END:VEVENT
END:VCALENDAR
