BEGIN:VCALENDAR
VERSION:2.0
PRODID:-//Squarespace Inc/Squarespace 6//v6//EN
BEGIN:VEVENT
UID:5b55ec9d03ce640becb1231f@squarespace.com
DTSTAMP:20180907T081104Z
DTSTART:20181006T130000Z
DTEND:20181006T200000Z
SUMMARY:Festival interculturel
GEO:40.720756;-74.000761
LOCATION:D'Millen
END:VEVENT
END:VCALENDAR
