BEGIN:VCALENDAR
VERSION:2.0
PRODID:-//Squarespace Inc/Squarespace 6//v6//EN
BEGIN:VEVENT
UID:5b8d2576cd8366d4a01fcc42@squarespace.com
DTSTAMP:20181003T141836Z
DTSTART:20181004T180000Z
DTEND:20181004T200000Z
SUMMARY:Grand H - Annulé 
GEO:49.726963;5.895568
LOCATION:D'Millen
END:VEVENT
END:VCALENDAR
