BEGIN:VCALENDAR
VERSION:2.0
PRODID:-//Squarespace Inc/Squarespace 6//v6//EN
BEGIN:VEVENT
UID:5b63fa1d562fa791671a2c5a@squarespace.com
DTSTAMP:20180905T091815Z
DTSTART:20181030T080000Z
DTEND:20181030T230000Z
SUMMARY:Mais où sont-elles donc toutes passées ? 
GEO:49.726878;5.895523
LOCATION:D'Millen
END:VEVENT
END:VCALENDAR
