BEGIN:VCALENDAR
VERSION:2.0
PRODID:-//Squarespace Inc/Squarespace 6//v6//EN
BEGIN:VEVENT
UID:5b76d77ccd836650ec7e2921@squarespace.com
DTSTAMP:20180817T142758Z
DTSTART:20181020T143000Z
DTEND:20181020T163000Z
SUMMARY:ReClothes Upcycling Workshop
GEO:49.726963;5.895568
LOCATION:D'Millen
END:VEVENT
END:VCALENDAR
