BEGIN:VCALENDAR
VERSION:2.0
PRODID:-//Squarespace Inc/Squarespace 6//v6//EN
BEGIN:VEVENT
UID:5b7d63e7c2241bf31c64f5a0@squarespace.com
DTSTAMP:20180822T140502Z
DTSTART:20181020T180000Z
DTEND:20181020T200000Z
SUMMARY:Litteraturkeller - De mes nuits à mes mots
GEO:49.726878;5.895523
LOCATION:D'Millen
END:VEVENT
END:VCALENDAR
