BEGIN:VCALENDAR
VERSION:2.0
PRODID:-//Squarespace Inc/Squarespace 6//v6//EN
BEGIN:VEVENT
UID:5b3b9cd7575d1ff7f0f99c33@squarespace.com
DTSTAMP:20180831T110231Z
DTSTART:20181018T173000Z
DTEND:20181018T193000Z
SUMMARY:Kasematten\, Bergwerke
GEO:40.720756;-74.000761
LOCATION:D'Millen
END:VEVENT
END:VCALENDAR
