BEGIN:VCALENDAR
VERSION:2.0
PRODID:-//Squarespace Inc/Squarespace 6//v6//EN
BEGIN:VEVENT
UID:5b3c7c002b6a28173347b8af@squarespace.com
DTSTAMP:20181221T150450Z
DTSTART:20181018T120000Z
DTEND:20190314T163000Z
SUMMARY:Ateliers thématiques de recyclage de mobilier et d'objets anciens
GEO:40.720756;-74.000761
LOCATION:D'Millen
END:VEVENT
END:VCALENDAR
