BEGIN:VCALENDAR
VERSION:2.0
PRODID:-//Squarespace Inc/Squarespace 6//v6//EN
BEGIN:VEVENT
UID:5b716c7b21c67c133d180760@squarespace.com
DTSTAMP:20180911T100029Z
DTSTART:20181013T120000Z
DTEND:20181013T150000Z
SUMMARY:Atelier de gravure sur Tetra Pak
GEO:49.726878;5.895523
LOCATION:D`Millen
END:VEVENT
END:VCALENDAR
