BEGIN:VCALENDAR
VERSION:2.0
PRODID:-//Squarespace Inc/Squarespace 6//v6//EN
BEGIN:VEVENT
UID:5a29634f53450a82bde7b6b1@squarespace.com
DTSTAMP:20171207T160441Z
DTSTART:20180127T090000Z
DTEND:20180127T160000Z
SUMMARY:Journée d'initiation à la reliure
GEO:43.235096;-79.714504
LOCATION:D'Millen
END:VEVENT
END:VCALENDAR
