BEGIN:VCALENDAR
VERSION:2.0
PRODID:-//Squarespace Inc/Squarespace 6//v6//EN
BEGIN:VEVENT
UID:5a6b44508165f5f9f9340b5a@squarespace.com
DTSTAMP:20180126T153749Z
DTSTART:20180403T070000Z
DTEND:20180404T140000Z
SUMMARY:Ateliers de vannerie
GEO:49.726878;5.895523
LOCATION:D'Millen
END:VEVENT
END:VCALENDAR
