BEGIN:VCALENDAR
VERSION:2.0
PRODID:-//Squarespace Inc/Squarespace 6//v6//EN
BEGIN:VEVENT
UID:5a6b482171c10b340c5da30b@squarespace.com
DTSTAMP:20180126T153928Z
DTSTART:20180611T070000Z
DTEND:20180612T140000Z
SUMMARY:Ateliers de vannerie
GEO:49.726878;5.895523
LOCATION:D'Millen
END:VEVENT
END:VCALENDAR
