BEGIN:VCALENDAR
VERSION:2.0
PRODID:-//Squarespace Inc/Squarespace 6//v6//EN
BEGIN:VEVENT
UID:5a6b48e2e2c48371b9a96186@squarespace.com
DTSTAMP:20180126T161504Z
DTSTART:20181106T080000Z
DTEND:20181107T150000Z
SUMMARY:Ateliers de vannerie
GEO:49.726878;5.895523
LOCATION:D'Millen
END:VEVENT
END:VCALENDAR
