BEGIN:VCALENDAR
VERSION:2.0
PRODID:-//Squarespace Inc/Squarespace 6//v6//EN
BEGIN:VEVENT
UID:5a6b48629140b7ecab55d9ba@squarespace.com
DTSTAMP:20180820T085153Z
DTSTART:20180903T070000Z
DTEND:20181107T150000Z
SUMMARY:Ateliers de vannerie
GEO:49.726878;5.895523
LOCATION:D'Millen
END:VEVENT
END:VCALENDAR
