BEGIN:VCALENDAR
VERSION:2.0
PRODID:-//Squarespace Inc/Squarespace 6//v6//EN
BEGIN:VEVENT
UID:5a16fb11f9619afa6ad12a09@squarespace.com
DTSTAMP:20180605T153520Z
DTSTART:20180120T190000Z
DTEND:20180120T200000Z
SUMMARY:Concert de piano de Julia Belova 
GEO:43.235096;-79.714504
LOCATION:D'Millen
END:VEVENT
END:VCALENDAR
