BEGIN:VCALENDAR
VERSION:2.0
PRODID:-//Squarespace Inc/Squarespace 6//v6//EN
BEGIN:VEVENT
UID:5a3939929140b71fe4921326@squarespace.com
DTSTAMP:20171220T131023Z
DTSTART:20180117T080000Z
DTEND:20180117T150000Z
SUMMARY:Stage de vannerie - travailler l'osier vert
GEO:49.726963;5.895568
LOCATION:D'Millen\, 103 Huewelerstrooss\, Biekerech\, Distrikt Dikrech\, 85
 21\, Luxembourg
END:VEVENT
END:VCALENDAR
