BEGIN:VCALENDAR
VERSION:2.0
PRODID:-//Squarespace Inc/Squarespace 6//v6//EN
BEGIN:VEVENT
UID:5a181c9c24a694106d38c3b7@squarespace.com
DTSTAMP:20171212T130953Z
DTSTART:20180110T160000Z
DTEND:20180704T180000Z
SUMMARY:Atelier découverte de la gravure 
GEO:49.726963;5.895568
LOCATION:D'Millen\, 103 Huewelerstrooss\, Biekerech\, Distrikt Dikrech\, 85
 21\, Luxembourg
END:VEVENT
END:VCALENDAR
