BEGIN:VCALENDAR
VERSION:2.0
PRODID:-//Squarespace Inc/Squarespace 6//v6//EN
BEGIN:VEVENT
UID:5996d5c09f74562f15b557be@squarespace.com
DTSTAMP:20170830T152520Z
DTSTART:20170904T070000Z
DTEND:20170906T140000Z
SUMMARY:Stage - Osez l'osier
GEO:49.726878;5.895523
LOCATION:D'Millen
END:VEVENT
END:VCALENDAR
