BEGIN:VCALENDAR
VERSION:2.0
PRODID:-//Squarespace Inc/Squarespace 6//v6//EN
BEGIN:VEVENT
UID:599ee94149fc2b0fa5e69a96@squarespace.com
DTSTAMP:20170928T090455Z
DTSTART:20170930T120000Z
DTEND:20171216T163000Z
SUMMARY:Initiation aux patines et aux différentes techniques de peinture po
 ur relooker des objets de petite taille
GEO:49.726878;5.895523
LOCATION:D'Millen
END:VEVENT
END:VCALENDAR
