BEGIN:VCALENDAR
VERSION:2.0
PRODID:-//Squarespace Inc/Squarespace 6//v6//EN
BEGIN:VEVENT
UID:59ca1cb5d7bdce066ff1e8a4@squarespace.com
DTSTAMP:20180605T153520Z
DTSTART:20171104T190000Z
DTEND:20171104T220000Z
SUMMARY:Balade au clair de lune
GEO:49.726878;5.895523
LOCATION:D'Millen
END:VEVENT
END:VCALENDAR
