BEGIN:VCALENDAR
VERSION:2.0
PRODID:-//Squarespace Inc/Squarespace 6//v6//EN
BEGIN:VEVENT
UID:5a2677b8652deaa854a2bde5@squarespace.com
DTSTAMP:20191122T085719Z
DTSTART:20190909T070000Z
DTEND:20200615T150000Z
SUMMARY:Cours de calligraphie 
GEO:49.726878;5.895523
LOCATION:D'Millen
END:VEVENT
END:VCALENDAR
