BEGIN:VCALENDAR
VERSION:2.0
PRODID:-//Squarespace Inc/Squarespace 6//v6//EN
BEGIN:VEVENT
UID:59809ac7197aea227d6d4dfd@squarespace.com
DTSTAMP:20170925T130156Z
DTSTART:20170927T173000Z
DTEND:20170927T193000Z
SUMMARY:Op de Spure vun den Éisträicher zu Lëtzebuerg (1715-1795)
GEO:49.726878;5.895523
LOCATION:D'Millen
END:VEVENT
END:VCALENDAR
