BEGIN:VCALENDAR
VERSION:2.0
PRODID:-//Squarespace Inc/Squarespace 6//v6//EN
BEGIN:VEVENT
UID:599ff3a78fd4d22e5e4e2a0c@squarespace.com
DTSTAMP:20170911T133644Z
DTSTART:20170921T180000Z
DTEND:20170921T200000Z
SUMMARY:Ikebana\, l'art floral japonais
GEO:49.726878;5.895523
LOCATION:D'Millen
END:VEVENT
END:VCALENDAR
