BEGIN:VCALENDAR
VERSION:2.0
PRODID:-//Squarespace Inc/Squarespace 6//v6//EN
BEGIN:VEVENT
UID:5a2e9a39652deadcd2b22c9d@squarespace.com
DTSTAMP:20191122T093252Z
DTSTART:20190919T153000Z
DTEND:20200709T180000Z
SUMMARY:Cours de Djembé
GEO:49.726878;5.895523
LOCATION:D'Millen
END:VEVENT
END:VCALENDAR
