BEGIN:VCALENDAR
VERSION:2.0
PRODID:-//Squarespace Inc/Squarespace 6//v6//EN
BEGIN:VEVENT
UID:5996b9a56b8f5bf88b2a7b3c@squarespace.com
DTSTAMP:20171102T085925Z
DTSTART:20170920T160000Z
DTEND:20171020T190000Z
SUMMARY:Atelier de gravure
GEO:49.726878;5.895523
LOCATION:D'Millen
END:VEVENT
END:VCALENDAR
