BEGIN:VCALENDAR
VERSION:2.0
PRODID:-//Squarespace Inc/Squarespace 6//v6//EN
BEGIN:VEVENT
UID:5996c91e2994ca702279ac62@squarespace.com
DTSTAMP:20171013T085112Z
DTSTART:20170916T120000Z
DTEND:20171008T180000Z
SUMMARY:Pathos\, exposition de Nicole Huberty
GEO:49.726878;5.895523
LOCATION:D'Millen
END:VEVENT
END:VCALENDAR
