BEGIN:VCALENDAR
VERSION:2.0
PRODID:-//Squarespace Inc/Squarespace 6//v6//EN
BEGIN:VEVENT
UID:599ee7a5e45a7c4d1ab317f4@squarespace.com
DTSTAMP:20171013T085140Z
DTSTART:20170916T120000Z
DTEND:20170916T153000Z
SUMMARY:Atelier de sculpture en terre sur le thème des personnages
GEO:49.726878;5.895523
LOCATION:D'Millen
END:VEVENT
END:VCALENDAR
