BEGIN:VCALENDAR
VERSION:2.0
PRODID:-//Squarespace Inc/Squarespace 6//v6//EN
BEGIN:VEVENT
UID:59a6d54112abd9d5f9922f9c@squarespace.com
DTSTAMP:20170830T151833Z
DTSTART:20170521T120000Z
DTEND:20170521T160000Z
SUMMARY:Invitation au musée
END:VEVENT
END:VCALENDAR
