BEGIN:VCALENDAR
VERSION:2.0
PRODID:-//Squarespace Inc/Squarespace 6//v6//EN
BEGIN:VEVENT
UID:59a6cda015d5dbf2569b5134@squarespace.com
DTSTAMP:20170830T150927Z
DTSTART:20170730T123000Z
DTEND:20170730T143000Z
SUMMARY:À la découverte des sons du  Kototama à la chapelle du Kahlenberg
END:VEVENT
END:VCALENDAR
