BEGIN:VCALENDAR
VERSION:2.0
PRODID:-//Squarespace Inc/Squarespace 6//v6//EN
BEGIN:VEVENT
UID:599ffb538419c29efb2c5a39@squarespace.com
DTSTAMP:20171009T164809Z
DTSTART:20171116T190000Z
DTEND:20171116T210000Z
SUMMARY:Trilogie Caraïbes
GEO:49.726878;5.895523
LOCATION:D'Millen
END:VEVENT
END:VCALENDAR
