BEGIN:VCALENDAR
VERSION:2.0
PRODID:-//Squarespace Inc/Squarespace 6//v6//EN
BEGIN:VEVENT
UID:599ff615ccc5c58f6c41e974@squarespace.com
DTSTAMP:20180605T153520Z
DTSTART:20170930T180000Z
DTEND:20170930T200000Z
SUMMARY:Literaturkeller - Rimbaud ... comme la poésie !
GEO:49.726878;5.895523
LOCATION:D'Millen
END:VEVENT
END:VCALENDAR
