BEGIN:VCALENDAR
VERSION:2.0
PRODID:-//Squarespace Inc/Squarespace 6//v6//EN
BEGIN:VEVENT
UID:598099756f4ca377c541d3d0@squarespace.com
DTSTAMP:20170911T134144Z
DTSTART:20171005T180000Z
DTEND:20171005T190000Z
SUMMARY:Sculpter un visage dans l'antiquité : les portraits d'Alexandre Le 
 Grand
GEO:49.726878;5.895523
LOCATION:D'Millen
END:VEVENT
END:VCALENDAR
