BEGIN:VCALENDAR
VERSION:2.0
PRODID:-//Squarespace Inc/Squarespace 6//v6//EN
BEGIN:VEVENT
UID:5995a5136b8f5bdf63f3303c@squarespace.com
DTSTAMP:20171013T085204Z
DTSTART:20170715T120000Z
DTEND:20170806T160000Z
SUMMARY:Exposition des travaux de l'atelier de peinture
GEO:49.726878;5.895523
LOCATION:D'Millen
END:VEVENT
END:VCALENDAR
