BEGIN:VCALENDAR
VERSION:2.0
PRODID:-//Squarespace Inc/Squarespace 6//v6//EN
BEGIN:VEVENT
UID:59959dd6e45a7c2d146237d2@squarespace.com
DTSTAMP:20171013T085220Z
DTSTART:20170616T140000Z
DTEND:20170709T150000Z
SUMMARY:Germaine Hoffmann & Michel Feinen
GEO:49.726878;5.895523
LOCATION:D'Millen
END:VEVENT
END:VCALENDAR
