BEGIN:VCALENDAR
VERSION:2.0
PRODID:-//Squarespace Inc/Squarespace 6//v6//EN
BEGIN:VEVENT
UID:5a0dac0ee4966b6b28cbe4b7@squarespace.com
DTSTAMP:20180605T153520Z
DTSTART:20171209T150000Z
DTEND:20171210T170000Z
SUMMARY:Marché de Noël
GEO:49.726878;5.895523
LOCATION:D'Millen
END:VEVENT
END:VCALENDAR
