BEGIN:VCALENDAR
VERSION:2.0
PRODID:-//Squarespace Inc/Squarespace 6//v6//EN
BEGIN:VEVENT
UID:59f0af146f4ca3b7ef0f7d0d@squarespace.com
DTSTAMP:20171201T092059Z
DTSTART:20171203T090000Z
DTEND:20171203T153000Z
SUMMARY:Atelier artistique - initiation à la photo numérique
END:VEVENT
END:VCALENDAR
