BEGIN:VCALENDAR
VERSION:2.0
PRODID:-//Squarespace Inc/Squarespace 6//v6//EN
BEGIN:VEVENT
UID:5a3b94f8f9619a4a1fa80840@squarespace.com
DTSTAMP:20190802T150820Z
DTSTART:20190924T113000Z
DTEND:20190924T150000Z
SUMMARY:Atelier pochoir sur tissu
GEO:49.726963;5.895568
LOCATION:D'Millen\, 103 Huewelerstrooss\, Biekerech\, Distrikt Dikrech\, 85
 21\, Luxembourg
END:VEVENT
END:VCALENDAR
