BEGIN:VCALENDAR
VERSION:2.0
PRODID:-//Squarespace Inc/Squarespace 6//v6//EN
BEGIN:VEVENT
UID:5d44548c0270b700011357ab@squarespace.com
DTSTAMP:20190802T152140Z
DTSTART:20191203T123000Z
DTEND:20191203T160000Z
SUMMARY:Atelier transfert de photos sur support en bois
GEO:49.726963;5.895568
LOCATION:D'Millen\, 103 Huewelerstrooss\, Biekerech\, Distrikt Dikrech\, 85
 21\, Luxembourg
END:VEVENT
END:VCALENDAR
