BEGIN:VCALENDAR
VERSION:2.0
PRODID:-//Squarespace Inc/Squarespace 6//v6//EN
BEGIN:VEVENT
UID:5d4453b4691c1f0001856816@squarespace.com
DTSTAMP:20190802T151703Z
DTSTART:20191112T123000Z
DTEND:20191112T160000Z
SUMMARY:Atelier enseigne publicitaire ou panneau indicateur au pochoir sur 
 bois
GEO:49.726963;5.895568
LOCATION:D'Millen\, 103 Huewelerstrooss\, Biekerech\, Distrikt Dikrech\, 85
 21\, Luxembourg
END:VEVENT
END:VCALENDAR
