BEGIN:VCALENDAR
VERSION:2.0
PRODID:-//Squarespace Inc/Squarespace 6//v6//EN
BEGIN:VEVENT
UID:5d44519364c39f0001864d72@squarespace.com
DTSTAMP:20190802T151311Z
DTSTART:20191015T113000Z
DTEND:20191015T150000Z
SUMMARY: Atelier transformation d’un vieux cadre en pêle-mêle pour photos o
 u en tableau noir
GEO:49.726963;5.895568
LOCATION:D'Millen\, 103 Huewelerstrooss\, Biekerech\, Distrikt Dikrech\, 85
 21\, Luxembourg
END:VEVENT
END:VCALENDAR
