BEGIN:VCALENDAR
VERSION:2.0
PRODID:-//Squarespace Inc/Squarespace 6//v6//EN
BEGIN:VEVENT
UID:5a3288bbec212deac3550cbc@squarespace.com
DTSTAMP:20180119T085444Z
DTSTART:20180201T190000Z
DTEND:20180201T200000Z
SUMMARY:(Re)naissance d'une légende
GEO:49.726963;5.895568
LOCATION:D'Millen\, 103 Huewelerstrooss\, Biekerech\, Distrikt Dikrech\, 85
 21\, Luxembourg
END:VEVENT
END:VCALENDAR
