BEGIN:VCALENDAR
VERSION:2.0
PRODID:-//Squarespace Inc/Squarespace 6//v6//EN
BEGIN:VEVENT
UID:599edb56e6f2e149a8107af2@squarespace.com
DTSTAMP:20170911T134524Z
DTSTART:20171130T190000Z
DTEND:20171130T210000Z
SUMMARY:Déieren am Krich
GEO:49.726878;5.895523
LOCATION:D'Millen
END:VEVENT
END:VCALENDAR
