BEGIN:VCALENDAR
VERSION:2.0
PRODID:-//Squarespace Inc/Squarespace 6//v6//EN
BEGIN:VEVENT
UID:59f0ace0ace864de04633a9b@squarespace.com
DTSTAMP:20171106T153434Z
DTSTART:20171126T130000Z
DTEND:20171217T190000Z
SUMMARY:Un autre monde\, une exposition de Sébastien Grébille
GEO:49.726878;5.895523
LOCATION:D'Millen
END:VEVENT
END:VCALENDAR
